BEGIN:VCALENDAR
PRODID:/modules.php?name=Schedule&act=getical&eid=1232
VERSION:2.0
CALSCALE:GREGORIAN
METHOD:PUBLISH
X-WR-CALNAME:Lebendiges-Neuwied.de-„Neuwied macht mit“ kehrt aus der Winterpause zurück
X-WR-TIMEZONE:Europe/Berlin
X-WR-CALDESC:Original by https://lebendiges-neuwied.de/
 Created by mxSchedule 
 Tecmu 2010-2026
BEGIN:VTIMEZONE
TZID:Europe/Berlin
X-LIC-LOCATION:Europe/Berlin
BEGIN:STANDARD
TZOFFSETFROM:+0100
TZOFFSETTO:+0200
TZNAME:CEST
DTSTART:19701025T030000
RRULE:FREQ=YEARLY;BYMONTH=10;BYDAY=-1SU
END:STANDARD
BEGIN:DAYLIGHT
TZOFFSETFROM:+0100
TZOFFSETTO:+0200
TZNAME:CEST
DTSTART:19700329T020000
RRULE:FREQ=YEARLY;BYMONTH=4;BYDAY=1SU
END:DAYLIGHT
END:VTIMEZONE
BEGIN:VEVENT
ORGANIZER;CN=Stadt_Neuwied-fbanaski@stadt-neuwied.de
DTSTART:20260505T160500
DTEND:20260505T180500
UID:b48725b99f5a5f53532821fe725e0a25
CREATED:20260420T150418
SUMMARY:„Neuwied macht mit“ kehrt aus der Winterpause zurück
DESCRIPTION:Auftakt auf dem Marktplatz mit &bdquo;K&uuml;nstlertag&ldquo; am 5. Mai

Mit dem neugestalteten Marktplatz hat die Neuwieder Innenstadt einen attraktiven, &ouml;ffentlichen Begegnungsort dazugewonnen. Hier kann man auf einer der vielen B&auml;nke verweilen, mit anderen Menschen ins Gespr&auml;ch kommen und den Blick &uuml;ber den Platz mit seinem besonderen Hingucker &ndash; der Neuwieder Marktkirche &ndash; schweifen lassen. Dar&uuml;ber, wie sich diese neugewonnene Fl&auml;che zus&auml;tzlich mit Leben f&uuml;llen l&auml;sst, haben sich die beiden Auszubildenden des Stadtmarketings Kira R&ouml;der und Selina K&uuml;ls Gedanken gemacht und in ihrem ersten Lehrjahr eine eigene, innovative Veranstaltungsreihe auf die Beine gestellt: Bei &bdquo;Neuwied macht mit&ldquo; ist es lokalen Vereinen m&ouml;glich, den Marktplatz einen Sp&auml;tnachmittag kostenfrei f&uuml;r eigene Aktivit&auml;ten zu nutzen, sich der &Ouml;ffentlichkeit zu pr&auml;sentieren und Passanten zum Mitmachen zu animieren. Nach einem erfolgreichen Auftakt im vergangenen Jahr und vielen lehrreichen Erfahrungen f&uuml;r die beiden Azubis bringen R&ouml;der und K&uuml;ls die Veranstaltungsreihe nun auf den Neuwieder Marktplatz zur&uuml;ck. F&uuml;r den Auftakttermin am Dienstag, 5. Mai, sind Live-Musik und ein &bdquo;K&uuml;nstlertag geplant &ndash; hierf&uuml;r werden noch kurzentschlossene K&uuml;nstlerinnen und K&uuml;nstler gesucht.

Einladung an alle Vereine

Das Konzept von &bdquo;Neuwied macht mit&ldquo; ist denkbar einfach: &bdquo;Egal, ob Ch&ouml;re, Sportvereine, Kulturinitiativen oder ganz was anderes &ndash; bei uns k&ouml;nnen grunds&auml;tzlich alle mitmachen&ldquo;, laden R&ouml;der und K&uuml;ls die Neuwieder Vereinslandschaft zur Teilnahme ein. Einzige Einschr&auml;nkung: Kommerzielle Veranstaltungen und politische Auftritte sind nicht gestattet. F&uuml;r die Veranstaltungsreihe wird der Marktplatz jeden ersten Dienstag im Monat von 16 bis 18 Uhr zur Aktionsfl&auml;che f&uuml;r teilnehmende Vereine. &bdquo;Am besten ist es nat&uuml;rlich, wenn Mitmach-Aktionen angeboten und die Passantinnen und Passanten so dazu animiert werden, sich aktiv zu beteiligen&ldquo;, erkl&auml;ren die beiden Organisatorinnen den Grundgedanken des Events.

Bei der Organisation der zweiten Saison von &bdquo;Neuwied macht mit&ldquo; konnten Kira R&ouml;der und Selina K&uuml;ls auf ihren Erfahrungsschatz aus dem Vorjahr zur&uuml;ckgreifen und haben das Konzept folglich weiterentwickelt: In 2026 gibt es weniger Termine, daf&uuml;r sollen diese im Vorhinein st&auml;rker beworben werden, um die Veranstaltungsreihe sowohl f&uuml;r die Vereine als auch f&uuml;r teilnehmende Passanten noch attraktiver zu gestalten und w&auml;hrend der Veranstaltungszeiten mehr Menschen auf den Neuwieder Marktplatz zu locken. &bdquo;Wir wollen den Marktplatz zu einem interaktiven Treffpunkt machen und Vereinen eine B&uuml;hne geben, sich und ihre Aktivit&auml;ten &ouml;ffentlich vorzustellen. F&uuml;r die Vereine kann das sicherlich auch eine interessante M&ouml;glichkeit sein, um neue Mitglieder zu gewinnen&ldquo;, sind beide &uuml;berzeugt.

&bdquo;K&uuml;nstlertag&ldquo; und Live-Musik von &bdquo;Joe and We&ldquo; zum Auftakt

F&uuml;r den ersten Termin am Dienstag, 5. Mai, steht das Programm bereits fest: Die Band &bdquo;Joe and We&ldquo; wird mit Akustikgitarre, Cajon und Gesang den musikalischen Rahmen setzen &ndash; Marktplatzbesucher k&ouml;nnen sich auf Coversongs aus den Genres Rock, Country und Blues freuen. Zudem sollen K&uuml;nstlerinnen und K&uuml;nstler mit Staffelei vor Ort sein und allen Interessierten spannende Einblicke in ihre Arbeit und verschiedene, einfache Maltechniken geben. Kunstschaffende, die sich an dieser au&szlig;ergew&ouml;hnlichen Aktion beteiligen m&ouml;chten, k&ouml;nnen sich kurzfristig ans Neuwieder Amt f&uuml;r Stadtmarketing wenden.

Mitmachen ist ganz einfach

Die Teilnahme f&uuml;r Vereine bei &bdquo;Neuwied macht mit&ldquo; ist bewusst so einfach und unb&uuml;rokratisch wie m&ouml;glich gestaltet worden. Interessenten finden unter www.neuwied.de/neuwied-macht-mit ein Online-Formular, in welchem sie kurz ihre Veranstaltungsidee skizzieren sowie ihren Terminwunsch nennen k&ouml;nnen. Nachfragen aller Art beantwortet das Team des Neuwieder Stadtmarketings auch per E-Mail an neuwiedmachtmit@stadt-neuwied.de. Wichtig: Der Marktplatz wird als Veranstaltungsfl&auml;che zur Verf&uuml;gung gestellt &ndash; alles andere, was zur Durchf&uuml;hrung ben&ouml;tigt wird, m&uuml;ssen die Vereine selbst mitbringen.

Foto:
Am Dienstag, 5. Mai, kehrt das innovative Veranstaltungsformat &bdquo;Neuwied macht mit&ldquo; auf den Marktplatz zur&uuml;ck. Die Organisatorinnen Selina K&uuml;ls und Kira R&ouml;der (v.r.) aus dem Neuwieder Amt f&uuml;r Stadtmarketing freuen sich auf eine rege Beteiligung von zahlreichen Vereinen, B&uuml;rgerinnen und B&uuml;rgern.
Foto: Pascal Stoltze
 Veröffentlicht von  https://lebendiges-neuwied.de/
LAST-MODIFIED:20260420T150418
END:VEVENT
END:VCALENDAR
