BEGIN:VCALENDAR
PRODID:/modules.php?name=Schedule&act=getical&eid=1227
VERSION:2.0
CALSCALE:GREGORIAN
METHOD:PUBLISH
X-WR-CALNAME:Lebendiges-Neuwied.de-Hof- und Gartenflohmarkt in ganz Heimbach-Weis
X-WR-TIMEZONE:Europe/Berlin
X-WR-CALDESC:Original by https://lebendiges-neuwied.de/
 Created by mxSchedule 
 Tecmu 2010-2026
BEGIN:VTIMEZONE
TZID:Europe/Berlin
X-LIC-LOCATION:Europe/Berlin
BEGIN:STANDARD
TZOFFSETFROM:+0100
TZOFFSETTO:+0200
TZNAME:CEST
DTSTART:19701025T030000
RRULE:FREQ=YEARLY;BYMONTH=10;BYDAY=-1SU
END:STANDARD
BEGIN:DAYLIGHT
TZOFFSETFROM:+0100
TZOFFSETTO:+0200
TZNAME:CEST
DTSTART:19700329T020000
RRULE:FREQ=YEARLY;BYMONTH=4;BYDAY=1SU
END:DAYLIGHT
END:VTIMEZONE
BEGIN:VEVENT
ORGANIZER;CN=ReThink e.V.-info@rethink-ev.de
DTSTART:20260530T090500
DTEND:20260530T160500
UID:ff617c519c1cf393f9601954d2d18fe0
CREATED:20260421T090458
SUMMARY:Hof- und Gartenflohmarkt in ganz Heimbach-Weis
DESCRIPTION:Der große Hof- & Gartenflohmarkt in Heimbach-Weis findet am 30.05. von 9 bis 16 Uhr statt. Ergreift die Chance zum Verkaufen, Bummeln und Entdecken. Nutzt diese Gelegenheit um alte Schätze loszuwerden, oder neue zu finden.
Wer sich mit einem Stand beteiligen möchte kann sich bis zum 27.05. kostenlos unter https://www.rethink-ev.de anmelden. Gebt dabei einfach eure Adresse an, und was ihr anbietet. Dann taucht ihr automatisch auf unserer Karte auf und interessierte Besucher*innen können euch finden.
Ein Tipp: Tut euch mit Bekannten zusammen. So macht der Tag noch mehr Spaß und ihr habt ein größeres Angebot.
Teilt die Veranstaltung gerne, damit wir möglichst viele Teilnehmer und Besucher von nah und fern beim Flohmarkt in Heimbach-Weis haben. Auf der Webseite findet ihr auch einen Flyer zum Ausdrucken. Wer gerne Plakate in A3 an Haustür oder im Schaufenster aushängen mag, kann diese auch bei uns abholen. Danke fürs Helfen den Markt größer und schöner zu machen!
 Veröffentlicht von  https://lebendiges-neuwied.de/
LAST-MODIFIED:20260421T090458
END:VEVENT
END:VCALENDAR
